BEGIN:VCALENDAR
VERSION:2.0
PRODID:-//haubi7ni - ECPv6.15.20//NONSGML v1.0//EN
CALSCALE:GREGORIAN
METHOD:PUBLISH
X-ORIGINAL-URL:https://haubi7ni.ch
X-WR-CALDESC:Veranstaltungen für haubi7ni
REFRESH-INTERVAL;VALUE=DURATION:PT1H
X-Robots-Tag:noindex
X-PUBLISHED-TTL:PT1H
BEGIN:VTIMEZONE
TZID:Europe/Zurich
BEGIN:DAYLIGHT
TZOFFSETFROM:+0100
TZOFFSETTO:+0200
TZNAME:CEST
DTSTART:20240331T010000
END:DAYLIGHT
BEGIN:STANDARD
TZOFFSETFROM:+0200
TZOFFSETTO:+0100
TZNAME:CET
DTSTART:20241027T010000
END:STANDARD
BEGIN:DAYLIGHT
TZOFFSETFROM:+0100
TZOFFSETTO:+0200
TZNAME:CEST
DTSTART:20250330T010000
END:DAYLIGHT
BEGIN:STANDARD
TZOFFSETFROM:+0200
TZOFFSETTO:+0100
TZNAME:CET
DTSTART:20251026T010000
END:STANDARD
BEGIN:DAYLIGHT
TZOFFSETFROM:+0100
TZOFFSETTO:+0200
TZNAME:CEST
DTSTART:20260329T010000
END:DAYLIGHT
BEGIN:STANDARD
TZOFFSETFROM:+0200
TZOFFSETTO:+0100
TZNAME:CET
DTSTART:20261025T010000
END:STANDARD
BEGIN:DAYLIGHT
TZOFFSETFROM:+0100
TZOFFSETTO:+0200
TZNAME:CEST
DTSTART:20270328T010000
END:DAYLIGHT
BEGIN:STANDARD
TZOFFSETFROM:+0200
TZOFFSETTO:+0100
TZNAME:CET
DTSTART:20271031T010000
END:STANDARD
END:VTIMEZONE
BEGIN:VEVENT
DTSTART;TZID=Europe/Zurich:20260410T183000
DTEND;TZID=Europe/Zurich:20260410T223000
DTSTAMP:20260423T143458
CREATED:20251106T123441Z
LAST-MODIFIED:20251106T123441Z
UID:1114-1775845800-1775860200@haubi7ni.ch
SUMMARY:haubi 7ni - Barbetrieb
DESCRIPTION:
URL:https://haubi7ni.ch/event/haubi-7ni-barbetrieb-32/
END:VEVENT
BEGIN:VEVENT
DTSTART;TZID=Europe/Zurich:20260326T183000
DTEND;TZID=Europe/Zurich:20260326T223000
DTSTAMP:20260423T143458
CREATED:20251106T123052Z
LAST-MODIFIED:20251106T123052Z
UID:1110-1774549800-1774564200@haubi7ni.ch
SUMMARY:haubi 7ni - Barbetrieb
DESCRIPTION:
URL:https://haubi7ni.ch/event/haubi-7ni-barbetrieb-31/
END:VEVENT
BEGIN:VEVENT
DTSTART;TZID=Europe/Zurich:20260313T183000
DTEND;TZID=Europe/Zurich:20260313T223000
DTSTAMP:20260423T143458
CREATED:20251106T123329Z
LAST-MODIFIED:20251106T123329Z
UID:1112-1773426600-1773441000@haubi7ni.ch
SUMMARY:haubi 7ni - Barbetrieb
DESCRIPTION:
URL:https://haubi7ni.ch/event/haubi-7ni-barbetrieb-25/
END:VEVENT
BEGIN:VEVENT
DTSTART;TZID=Europe/Zurich:20260312T183000
DTEND;TZID=Europe/Zurich:20260312T223000
DTSTAMP:20260423T143458
CREATED:20251106T122919Z
LAST-MODIFIED:20251106T122919Z
UID:1106-1773340200-1773354600@haubi7ni.ch
SUMMARY:haubi 7ni - Barbetrieb
DESCRIPTION:
URL:https://haubi7ni.ch/event/haubi-7ni-barbetrieb-29/
END:VEVENT
BEGIN:VEVENT
DTSTART;TZID=Europe/Zurich:20260227T183000
DTEND;TZID=Europe/Zurich:20260227T223000
DTSTAMP:20260423T143458
CREATED:20251106T122812Z
LAST-MODIFIED:20251106T122812Z
UID:1104-1772217000-1772231400@haubi7ni.ch
SUMMARY:haubi 7ni - Barbetrieb
DESCRIPTION:
URL:https://haubi7ni.ch/event/haubi-7ni-barbetrieb-28/
END:VEVENT
BEGIN:VEVENT
DTSTART;TZID=Europe/Zurich:20260226T183000
DTEND;TZID=Europe/Zurich:20260226T223000
DTSTAMP:20260423T143458
CREATED:20251106T122728Z
LAST-MODIFIED:20251106T122728Z
UID:1102-1772130600-1772145000@haubi7ni.ch
SUMMARY:haubi 7ni - Barbetrieb
DESCRIPTION:
URL:https://haubi7ni.ch/event/haubi-7ni-barbetrieb-27/
END:VEVENT
BEGIN:VEVENT
DTSTART;TZID=Europe/Zurich:20260213T183000
DTEND;TZID=Europe/Zurich:20260213T223000
DTSTAMP:20260423T143458
CREATED:20251106T123006Z
LAST-MODIFIED:20251106T123006Z
UID:1108-1771007400-1771021800@haubi7ni.ch
SUMMARY:haubi 7ni - Barbetrieb
DESCRIPTION:
URL:https://haubi7ni.ch/event/haubi-7ni-barbetrieb-30/
END:VEVENT
BEGIN:VEVENT
DTSTART;TZID=Europe/Zurich:20260130T183000
DTEND;TZID=Europe/Zurich:20260130T223000
DTSTAMP:20260423T143458
CREATED:20251106T122515Z
LAST-MODIFIED:20251106T123615Z
UID:1098-1769797800-1769812200@haubi7ni.ch
SUMMARY:haubi 7ni - Barbetrieb
DESCRIPTION:
URL:https://haubi7ni.ch/event/haubi-7ni-barbetrieb-18/
END:VEVENT
BEGIN:VEVENT
DTSTART;TZID=Europe/Zurich:20260115T183000
DTEND;TZID=Europe/Zurich:20260115T223000
DTSTAMP:20260423T143458
CREATED:20251106T122221Z
LAST-MODIFIED:20251106T122358Z
UID:1096-1768501800-1768516200@haubi7ni.ch
SUMMARY:haubi 7ni - Barbetrieb
DESCRIPTION:
URL:https://haubi7ni.ch/event/haubi-7ni-barbetrieb-11/
END:VEVENT
BEGIN:VEVENT
DTSTART;TZID=Europe/Zurich:20251212T183000
DTEND;TZID=Europe/Zurich:20251212T223000
DTSTAMP:20260423T143458
CREATED:20250226T082738Z
LAST-MODIFIED:20250226T082738Z
UID:837-1765564200-1765578600@haubi7ni.ch
SUMMARY:haubi 7ni - Barbetrieb
DESCRIPTION:
URL:https://haubi7ni.ch/event/haubi-7ni-barbetrieb-24/
END:VEVENT
BEGIN:VEVENT
DTSTART;TZID=Europe/Zurich:20251211T183000
DTEND;TZID=Europe/Zurich:20251211T223000
DTSTAMP:20260423T143458
CREATED:20250226T082644Z
LAST-MODIFIED:20250226T082644Z
UID:835-1765477800-1765492200@haubi7ni.ch
SUMMARY:haubi 7ni - Barbetrieb
DESCRIPTION:
URL:https://haubi7ni.ch/event/haubi-7ni-barbetrieb-23/
END:VEVENT
BEGIN:VEVENT
DTSTART;TZID=Europe/Zurich:20251127T183000
DTEND;TZID=Europe/Zurich:20251127T223000
DTSTAMP:20260423T143458
CREATED:20250226T082524Z
LAST-MODIFIED:20251106T121409Z
UID:833-1764268200-1764282600@haubi7ni.ch
SUMMARY:haubi 7ni - Fondue
DESCRIPTION:
URL:https://haubi7ni.ch/event/haubi-7ni-barbetrieb-22/
END:VEVENT
BEGIN:VEVENT
DTSTART;TZID=Europe/Zurich:20251114T183000
DTEND;TZID=Europe/Zurich:20251114T223000
DTSTAMP:20260423T143458
CREATED:20250226T082416Z
LAST-MODIFIED:20250226T082425Z
UID:831-1763145000-1763159400@haubi7ni.ch
SUMMARY:haubi 7ni - Barbetrieb
DESCRIPTION:
URL:https://haubi7ni.ch/event/haubi-7ni-barbetrieb-21/
END:VEVENT
BEGIN:VEVENT
DTSTART;TZID=Europe/Zurich:20251024T183000
DTEND;TZID=Europe/Zurich:20251024T223000
DTSTAMP:20260423T143458
CREATED:20250226T082307Z
LAST-MODIFIED:20250226T082307Z
UID:829-1761330600-1761345000@haubi7ni.ch
SUMMARY:haubi 7ni - Barbetrieb
DESCRIPTION:
URL:https://haubi7ni.ch/event/haubi-7ni-barbetrieb-20/
END:VEVENT
BEGIN:VEVENT
DTSTART;TZID=Europe/Zurich:20251023T183000
DTEND;TZID=Europe/Zurich:20251023T223000
DTSTAMP:20260423T143458
CREATED:20250226T082142Z
LAST-MODIFIED:20250226T082204Z
UID:827-1761244200-1761258600@haubi7ni.ch
SUMMARY:haubi 7ni - Barbetrieb
DESCRIPTION:
URL:https://haubi7ni.ch/event/haubi-7ni-barbetrieb-19/
END:VEVENT
BEGIN:VEVENT
DTSTART;TZID=Europe/Zurich:20251009T183000
DTEND;TZID=Europe/Zurich:20251009T223000
DTSTAMP:20260423T143458
CREATED:20250226T083232Z
LAST-MODIFIED:20250226T083232Z
UID:841-1760034600-1760049000@haubi7ni.ch
SUMMARY:haubi 7ni - Barbetrieb
DESCRIPTION:
URL:https://haubi7ni.ch/event/haubi-7ni-barbetrieb-26/
END:VEVENT
BEGIN:VEVENT
DTSTART;TZID=Europe/Zurich:20250926T183000
DTEND;TZID=Europe/Zurich:20250926T223000
DTSTAMP:20260423T143458
CREATED:20250226T081853Z
LAST-MODIFIED:20250226T081853Z
UID:823-1758911400-1758925800@haubi7ni.ch
SUMMARY:haubi 7ni - Barbetrieb
DESCRIPTION:
URL:https://haubi7ni.ch/event/haubi-7ni-barbetrieb-17/
END:VEVENT
BEGIN:VEVENT
DTSTART;TZID=Europe/Zurich:20250925T183000
DTEND;TZID=Europe/Zurich:20250925T223000
DTSTAMP:20260423T143458
CREATED:20250226T081746Z
LAST-MODIFIED:20250226T081746Z
UID:821-1758825000-1758839400@haubi7ni.ch
SUMMARY:haubi 7ni - Barbetrieb
DESCRIPTION:
URL:https://haubi7ni.ch/event/haubi-7ni-barbetrieb-16/
END:VEVENT
BEGIN:VEVENT
DTSTART;TZID=Europe/Zurich:20250912T183000
DTEND;TZID=Europe/Zurich:20250912T223000
DTSTAMP:20260423T143458
CREATED:20250226T081623Z
LAST-MODIFIED:20250226T081623Z
UID:819-1757701800-1757716200@haubi7ni.ch
SUMMARY:haubi 7ni - Barbetrieb
DESCRIPTION:
URL:https://haubi7ni.ch/event/haubi-7ni-barbetrieb-15/
END:VEVENT
BEGIN:VEVENT
DTSTART;TZID=Europe/Zurich:20250801T183000
DTEND;TZID=Europe/Zurich:20250831T223000
DTSTAMP:20260423T143458
CREATED:20250226T081437Z
LAST-MODIFIED:20250226T081437Z
UID:816-1754073000-1756679400@haubi7ni.ch
SUMMARY:Pause - wir sehen uns an der Bar-Bara am Bach
DESCRIPTION:
URL:https://haubi7ni.ch/event/pause-wir-sehen-uns-an-der-bar-bara-am-bach/
END:VEVENT
BEGIN:VEVENT
DTSTART;TZID=Europe/Zurich:20250724T183000
DTEND;TZID=Europe/Zurich:20250724T223000
DTSTAMP:20260423T143458
CREATED:20250226T081224Z
LAST-MODIFIED:20250226T081246Z
UID:814-1753381800-1753396200@haubi7ni.ch
SUMMARY:haubi 7ni - Barbetrieb
DESCRIPTION:
URL:https://haubi7ni.ch/event/haubi-7ni-barbetrieb-14/
END:VEVENT
BEGIN:VEVENT
DTSTART;TZID=Europe/Zurich:20250711T183000
DTEND;TZID=Europe/Zurich:20250711T223000
DTSTAMP:20260423T143458
CREATED:20250226T081134Z
LAST-MODIFIED:20250226T081134Z
UID:812-1752258600-1752273000@haubi7ni.ch
SUMMARY:haubi 7ni - Barbetrieb
DESCRIPTION:
URL:https://haubi7ni.ch/event/haubi-7ni-barbetrieb-13/
END:VEVENT
BEGIN:VEVENT
DTSTART;TZID=Europe/Zurich:20250627T183000
DTEND;TZID=Europe/Zurich:20250627T223000
DTSTAMP:20260423T143458
CREATED:20250226T081005Z
LAST-MODIFIED:20250226T081005Z
UID:810-1751049000-1751063400@haubi7ni.ch
SUMMARY:haubi 7ni - Barbetrieb
DESCRIPTION:
URL:https://haubi7ni.ch/event/haubi-7ni-barbetrieb-12/
END:VEVENT
BEGIN:VEVENT
DTSTART;TZID=Europe/Zurich:20250626T183000
DTEND;TZID=Europe/Zurich:20250626T223000
DTSTAMP:20260423T143458
CREATED:20250226T080751Z
LAST-MODIFIED:20250226T080804Z
UID:806-1750962600-1750977000@haubi7ni.ch
SUMMARY:haubi 7ni - Barbetrieb
DESCRIPTION:
URL:https://haubi7ni.ch/event/haubi-7ni-barbetrieb-10/
END:VEVENT
BEGIN:VEVENT
DTSTART;TZID=Europe/Zurich:20250613T183000
DTEND;TZID=Europe/Zurich:20250613T223000
DTSTAMP:20260423T143458
CREATED:20250226T080704Z
LAST-MODIFIED:20250226T080704Z
UID:804-1749839400-1749853800@haubi7ni.ch
SUMMARY:haubi 7ni - Barbetrieb
DESCRIPTION:
URL:https://haubi7ni.ch/event/haubi-7ni-barbetrieb-9/
END:VEVENT
BEGIN:VEVENT
DTSTART;TZID=Europe/Zurich:20250522T183000
DTEND;TZID=Europe/Zurich:20250522T223000
DTSTAMP:20260423T143458
CREATED:20250226T080538Z
LAST-MODIFIED:20250226T080538Z
UID:802-1747938600-1747953000@haubi7ni.ch
SUMMARY:haubi 7ni - Barbetrieb
DESCRIPTION:
URL:https://haubi7ni.ch/event/haubi-7ni-barbetrieb-8/
END:VEVENT
BEGIN:VEVENT
DTSTART;TZID=Europe/Zurich:20250509T183000
DTEND;TZID=Europe/Zurich:20250509T223000
DTSTAMP:20260423T143458
CREATED:20250226T080450Z
LAST-MODIFIED:20250226T080450Z
UID:800-1746815400-1746829800@haubi7ni.ch
SUMMARY:haubi 7ni - Barbetrieb
DESCRIPTION:
URL:https://haubi7ni.ch/event/haubi-7ni-barbetrieb-7/
END:VEVENT
BEGIN:VEVENT
DTSTART;TZID=Europe/Zurich:20250424T183000
DTEND;TZID=Europe/Zurich:20250424T223000
DTSTAMP:20260423T143458
CREATED:20250226T080400Z
LAST-MODIFIED:20250226T080400Z
UID:798-1745519400-1745533800@haubi7ni.ch
SUMMARY:haubi 7ni - Barbetrieb
DESCRIPTION:
URL:https://haubi7ni.ch/event/haubi-7ni-barbetrieb-6/
END:VEVENT
BEGIN:VEVENT
DTSTART;TZID=Europe/Zurich:20250411T183000
DTEND;TZID=Europe/Zurich:20250411T223000
DTSTAMP:20260423T143458
CREATED:20250226T080253Z
LAST-MODIFIED:20250226T080253Z
UID:796-1744396200-1744410600@haubi7ni.ch
SUMMARY:haubi 7ni - Barbetrieb
DESCRIPTION:
URL:https://haubi7ni.ch/event/haubi-7ni-barbetrieb-5/
END:VEVENT
BEGIN:VEVENT
DTSTART;TZID=Europe/Zurich:20250328T183000
DTEND;TZID=Europe/Zurich:20250328T223000
DTSTAMP:20260423T143458
CREATED:20250204T120035Z
LAST-MODIFIED:20250204T120402Z
UID:747-1743186600-1743201000@haubi7ni.ch
SUMMARY:haubi 7ni - Barbetrieb
DESCRIPTION:
URL:https://haubi7ni.ch/event/haubi-7ni-barbetrieb-4/
END:VEVENT
END:VCALENDAR