BEGIN:VCALENDAR
VERSION:2.0
PRODID:-//haubi7ni - ECPv6.15.20//NONSGML v1.0//EN
CALSCALE:GREGORIAN
METHOD:PUBLISH
X-WR-CALNAME:haubi7ni
X-ORIGINAL-URL:https://haubi7ni.ch
X-WR-CALDESC:Veranstaltungen für haubi7ni
REFRESH-INTERVAL;VALUE=DURATION:PT1H
X-Robots-Tag:noindex
X-PUBLISHED-TTL:PT1H
BEGIN:VTIMEZONE
TZID:Europe/Zurich
BEGIN:DAYLIGHT
TZOFFSETFROM:+0100
TZOFFSETTO:+0200
TZNAME:CEST
DTSTART:20250330T010000
END:DAYLIGHT
BEGIN:STANDARD
TZOFFSETFROM:+0200
TZOFFSETTO:+0100
TZNAME:CET
DTSTART:20251026T010000
END:STANDARD
BEGIN:DAYLIGHT
TZOFFSETFROM:+0100
TZOFFSETTO:+0200
TZNAME:CEST
DTSTART:20260329T010000
END:DAYLIGHT
BEGIN:STANDARD
TZOFFSETFROM:+0200
TZOFFSETTO:+0100
TZNAME:CET
DTSTART:20261025T010000
END:STANDARD
BEGIN:DAYLIGHT
TZOFFSETFROM:+0100
TZOFFSETTO:+0200
TZNAME:CEST
DTSTART:20270328T010000
END:DAYLIGHT
BEGIN:STANDARD
TZOFFSETFROM:+0200
TZOFFSETTO:+0100
TZNAME:CET
DTSTART:20271031T010000
END:STANDARD
END:VTIMEZONE
BEGIN:VEVENT
DTSTART;TZID=Europe/Zurich:20260611T183000
DTEND;TZID=Europe/Zurich:20260611T223000
DTSTAMP:20260423T170327
CREATED:20251106T124315Z
LAST-MODIFIED:20260412T132611Z
UID:1124-1781202600-1781217000@haubi7ni.ch
SUMMARY:haubi 7ni - Vortrag Mongol Rally 2025
DESCRIPTION:Ein spannender Vortrag von Thomas Spahr und Martin Blaas
URL:https://haubi7ni.ch/event/haubi-7ni-barbetrieb-37/
END:VEVENT
BEGIN:VEVENT
DTSTART;TZID=Europe/Zurich:20260625T183000
DTEND;TZID=Europe/Zurich:20260625T223000
DTSTAMP:20260423T170327
CREATED:20251106T124405Z
LAST-MODIFIED:20251106T124405Z
UID:1126-1782412200-1782426600@haubi7ni.ch
SUMMARY:haubi 7ni - Barbetrieb
DESCRIPTION:
URL:https://haubi7ni.ch/event/haubi-7ni-barbetrieb-38/
END:VEVENT
BEGIN:VEVENT
DTSTART;TZID=Europe/Zurich:20260626T183000
DTEND;TZID=Europe/Zurich:20260626T223000
DTSTAMP:20260423T170327
CREATED:20251106T124443Z
LAST-MODIFIED:20251106T124443Z
UID:1128-1782498600-1782513000@haubi7ni.ch
SUMMARY:haubi 7ni - Barbetrieb
DESCRIPTION:
URL:https://haubi7ni.ch/event/haubi-7ni-barbetrieb-39/
END:VEVENT
END:VCALENDAR